BEGIN:VCALENDAR
VERSION:2.0
PRODID:-//Puget Sound Digital Ham Net - ECPv6.15.20//NONSGML v1.0//EN
CALSCALE:GREGORIAN
METHOD:PUBLISH
X-WR-CALNAME:Puget Sound Digital Ham Net
X-ORIGINAL-URL:https://www.psdhn.org
X-WR-CALDESC:Events for Puget Sound Digital Ham Net
REFRESH-INTERVAL;VALUE=DURATION:PT1H
X-Robots-Tag:noindex
X-PUBLISHED-TTL:PT1H
BEGIN:VTIMEZONE
TZID:America/Los_Angeles
BEGIN:DAYLIGHT
TZOFFSETFROM:-0800
TZOFFSETTO:-0700
TZNAME:PDT
DTSTART:20220313T100000
END:DAYLIGHT
BEGIN:STANDARD
TZOFFSETFROM:-0700
TZOFFSETTO:-0800
TZNAME:PST
DTSTART:20221106T090000
END:STANDARD
BEGIN:DAYLIGHT
TZOFFSETFROM:-0800
TZOFFSETTO:-0700
TZNAME:PDT
DTSTART:20230312T100000
END:DAYLIGHT
BEGIN:STANDARD
TZOFFSETFROM:-0700
TZOFFSETTO:-0800
TZNAME:PST
DTSTART:20231105T090000
END:STANDARD
BEGIN:DAYLIGHT
TZOFFSETFROM:-0800
TZOFFSETTO:-0700
TZNAME:PDT
DTSTART:20240310T100000
END:DAYLIGHT
BEGIN:STANDARD
TZOFFSETFROM:-0700
TZOFFSETTO:-0800
TZNAME:PST
DTSTART:20241103T090000
END:STANDARD
END:VTIMEZONE
BEGIN:VEVENT
DTSTART;TZID=America/Los_Angeles:20231106T200000
DTEND;TZID=America/Los_Angeles:20231106T210000
DTSTAMP:20260421T045120
CREATED:20231107T045249Z
LAST-MODIFIED:20231107T045249Z
UID:786-1699300800-1699304400@www.psdhn.org
SUMMARY:PSDHN
DESCRIPTION:
URL:https://www.psdhn.org/event/psdhn-net-2023-11-06/
END:VEVENT
BEGIN:VEVENT
DTSTART;TZID=America/Los_Angeles:20231113T200000
DTEND;TZID=America/Los_Angeles:20231113T210000
DTSTAMP:20260421T045120
CREATED:20231107T045438Z
LAST-MODIFIED:20231107T045438Z
UID:788-1699905600-1699909200@www.psdhn.org
SUMMARY:PSDHN
DESCRIPTION:
URL:https://www.psdhn.org/event/psdhn-net-2023-11-13/
LOCATION:Columbia W7ACS 444.550 (+) PL 141.3/Cougar Mountain WW7ATS 441.550 (+) PL103.5 Back Up
END:VEVENT
BEGIN:VEVENT
DTSTART;TZID=America/Los_Angeles:20231120T200000
DTEND;TZID=America/Los_Angeles:20231120T210000
DTSTAMP:20260421T045120
CREATED:20231107T050347Z
LAST-MODIFIED:20231107T050347Z
UID:790-1700510400-1700514000@www.psdhn.org
SUMMARY:PSDHN
DESCRIPTION:
URL:https://www.psdhn.org/event/psdhn-net-2023-11-20/
END:VEVENT
BEGIN:VEVENT
DTSTART;TZID=America/Los_Angeles:20231127T200000
DTEND;TZID=America/Los_Angeles:20231127T210000
DTSTAMP:20260421T045120
CREATED:20231107T050612Z
LAST-MODIFIED:20231107T050753Z
UID:792-1701115200-1701118800@www.psdhn.org
SUMMARY:PSDHN
DESCRIPTION:
URL:https://www.psdhn.org/event/psdhn-net-2023-11-27/
END:VEVENT
END:VCALENDAR